BEGIN:VCALENDAR
VERSION:2.0
PRODID:-//Tukios.com/
BEGIN:VEVENT
UID:110b5b82-6a0f-4f58-b54b-7514e6d6a769@www.huebnerfuneralhome.com
DTSTAMP:20260424T212125Z
DTSTART:20260427T220000Z
DTEND:20260428T000000Z
SUMMARY:Visitation
DESCRIPTION:
URL:https://www.huebnerfuneralhome.com/obituaries/alan-martinez
LOCATION:Huebner Funeral Home 1437 Broadway  Denison IA 51442
GEO:42.0164199;-95.3522102
END:VEVENT
END:VCALENDAR