BEGIN:VCALENDAR
VERSION:2.0
PRODID:-//Tukios.com/
BEGIN:VEVENT
UID:cf078b58-9059-41b1-bd3d-2583bf74d7ca@www.huebnerfuneralhome.com
DTSTAMP:20260424T212210Z
DTSTART:20260428T000000Z
DTEND:20260428T010000Z
SUMMARY:Prayer Service
DESCRIPTION:
URL:https://www.huebnerfuneralhome.com/obituaries/alan-martinez
LOCATION:Huebner Funeral Home 1437 Broadway  Denison IA 51442
GEO:42.0164199;-95.3522102
END:VEVENT
END:VCALENDAR