BEGIN:VCALENDAR
VERSION:2.0
PRODID:-//Tukios.com/
BEGIN:VEVENT
UID:640d9488-3d7d-471b-a584-778f813b14d3@www.huebnerfuneralhome.com
DTSTAMP:20260424T211606Z
DTSTART:20260428T190000Z
DTEND:20260428T200000Z
SUMMARY:Graveside Service
DESCRIPTION:
URL:https://www.huebnerfuneralhome.com/obituaries/alan-martinez
LOCATION:Oakland Cemetery 2012 S Main Loop  Denison IA 51442
GEO:42.0018723;-95.3495897
END:VEVENT
END:VCALENDAR