BEGIN:VCALENDAR
VERSION:2.0
PRODID:-//Tukios.com/
BEGIN:VEVENT
UID:a48b7265-342c-43b0-b7c7-09d6c7a77867@www.huebnerfuneralhome.com
DTSTAMP:20260425T022353Z
DTSTART:20260428T220000Z
DTEND:20260429T000000Z
SUMMARY:Visitation
DESCRIPTION:
URL:https://www.huebnerfuneralhome.com/obituaries/vernis-giermann
LOCATION: 1437 Broadway  Denison IA 51442
GEO:42.0164199;-95.3522102
END:VEVENT
END:VCALENDAR