BEGIN:VCALENDAR
VERSION:2.0
PRODID:-//Tukios.com/
BEGIN:VEVENT
UID:b74ea39e-fe9e-4e21-b585-ecb08f2a13d4@www.huebnerfuneralhome.com
DTSTAMP:20260425T022328Z
DTSTART:20260429T153000Z
DTEND:20260429T163000Z
SUMMARY:Funeral Service
DESCRIPTION:
URL:https://www.huebnerfuneralhome.com/obituaries/vernis-giermann
LOCATION:St. John’s Lutheran Church 17 S Orchard Street  Kiron IA 51448
GEO:42.1942837;-95.3279855
END:VEVENT
END:VCALENDAR